BEGIN:VCALENDAR
VERSION:2.0
PRODID:-//specialolympicsnd.org//NONSGML kigkonsult.se iCalcreator 2.30.10/
 /
CALSCALE:GREGORIAN
METHOD:PUBLISH
UID:ee8ecf9d-5e2d-4cb3-8774-97e0baaf6aea
X-WR-CALDESC:Gather a team of 8 of your smartest friends\, colleagues\, and
  family members and join us for a fun-filled Trivia Night and Silent Aucti
 on fundraiser to support our local Cass County Special Olympics athletes!
 \nânâ\nDATE AND TIME\nSat\, February 24\, 2018\n6:00 pm -7:00 pm social hour
 \n7:00 pm - trivia starts\n \nLOCATION\nDelta Hotels by Marriott\n1635 42n
 d Street South\nFargo\, ND 58103\n\n$200 per team of 8 or $25 per person\n
 6pm-7pm social hour\; 7pm trivia starts\nLight appetizers provided\; Alcoh
 ol and other beverages available for purchase\n21+ event only\nPrize for t
 he top team!\nâ€‹\nRegister at <a href='https://www.eventbrite.com/e/2018-tr
 ivia-night-silent-auction-for-special-olympics-tickets-41110471527' target
 ='_blank' rel='noreferrer noopener'>Eventbrite</a>
X-WR-RELCALID:a0378c331fbec029d8b571b7dbe728ec
X-WR-TIMEZONE:America/Chicago
BEGIN:VTIMEZONE
TZID:America/Chicago
BEGIN:STANDARD
TZNAME:CST
DTSTART:20171105T020000
TZOFFSETFROM:-0500
TZOFFSETTO:-0600
RDATE:20181104T020000
END:STANDARD
BEGIN:DAYLIGHT
TZNAME:CDT
DTSTART:20170312T020000
TZOFFSETFROM:-0600
TZOFFSETTO:-0500
RDATE:20180311T020000
RDATE:20190310T020000
END:DAYLIGHT
END:VTIMEZONE
BEGIN:VEVENT
UID:72b8ab6e-7f78-4b27-a7b4-c702eaa26d25
DTSTAMP:20260423T020401Z
DESCRIPTION:Gather a team of 8 of your smartest friends\, colleagues\, and 
 family members and join us for a fun-filled Trivia Night and Silent Auctio
 n fundraiser to support our local Cass County Special Olympics athletes!\n
 â€‹\nDATE AND TIME\nSat\, February 24\, 2018\n6:00 pm -7:00 pm social hour\n
 7:00 pm - trivia starts\n \nLOCATION\nDelta Hotels by Marriott\n1635 42nd 
 Street South\nFargo\, ND 58103\n\n$200 per team of 8 or $25 per person\n6p
 m-7pm social hour\; 7pm trivia starts\nLight appetizers provided\; Alcohol
  and other beverages available for purchase\n21+ event only\nPrize for the
  top team!\nâ€‹\nRegister at <a href='https://www.eventbrite.com/e/2018-triv
 ia-night-silent-auction-for-special-olympics-tickets-41110471527' target='
 _blank' rel='noreferrer noopener'>Eventbrite</a>
DTSTART;TZID=America/Chicago:20180224T180000
DTEND;TZID=America/Chicago:20180224T203000
LOCATION:Delta Hotels\, Fargo\, ND
SUMMARY:Trivia Night
END:VEVENT
END:VCALENDAR
