BEGIN:VCALENDAR
VERSION:2.0
PRODID:-//specialolympicsnd.org//NONSGML kigkonsult.se iCalcreator 2.30.10/
 /
CALSCALE:GREGORIAN
METHOD:PUBLISH
UID:3df44271-f230-47fe-ac63-bcbf4faed425
X-WR-CALDESC:The Polar Plunge is an annual fundraiser organized by North Da
 kota Law Enforcement as part of the year-round Law Enforcement Torch Run t
 o raise awareness and fund to benefit Special Olympics North Dakota (SOND)
 .  Polar Plunges offer a unique opportunity for individuals\, organization
 s\, and businesses to support Special Olympics North Dakota athletes by ra
 ising money and taking the plunge into frigid North Dakota waters.  \n\nFo
 r more information\, visit our Firstgiving page with the link below.
X-WR-RELCALID:52024e42a80626e7fb0e8b04e8647385
X-WR-TIMEZONE:America/Chicago
BEGIN:VTIMEZONE
TZID:America/Chicago
BEGIN:STANDARD
TZNAME:CST
DTSTART:20171105T020000
TZOFFSETFROM:-0500
TZOFFSETTO:-0600
RDATE:20181104T020000
END:STANDARD
BEGIN:DAYLIGHT
TZNAME:CDT
DTSTART:20170312T020000
TZOFFSETFROM:-0600
TZOFFSETTO:-0500
RDATE:20180311T020000
RDATE:20190310T020000
END:DAYLIGHT
END:VTIMEZONE
BEGIN:VEVENT
UID:d3553f0e-4b5d-4393-9244-1f3cd67133d2
DTSTAMP:20260423T020724Z
DESCRIPTION:The Polar Plunge is an annual fundraiser organized by North Dak
 ota Law Enforcement as part of the year-round Law Enforcement Torch Run to
  raise awareness and fund to benefit Special Olympics North Dakota (SOND).
   Polar Plunges offer a unique opportunity for individuals\, organizations
 \, and businesses to support Special Olympics North Dakota athletes by rai
 sing money and taking the plunge into frigid North Dakota waters.  \n\nFor
  more information\, visit our Firstgiving page with the link below.
DTSTART;TZID=America/Chicago:20180224T000000
DTEND;TZID=America/Chicago:20180224T235900
LOCATION:Choice Financial\, Grand Forks\, ND
SUMMARY:Polar Plunge - Grand Forks
END:VEVENT
END:VCALENDAR
