BEGIN:VCALENDAR
VERSION:2.0
PRODID:-//specialolympicsnd.org//NONSGML kigkonsult.se iCalcreator 2.30.10/
 /
CALSCALE:GREGORIAN
METHOD:PUBLISH
UID:878aa7d8-e4d9-4b55-ae61-9b10ec54680a
X-WR-CALDESC:The Polar Plunge is an annual fundraiser organized by North Da
 kota Law Enforcement as part of the year-round Law Enforcement Torch Run t
 o raise awareness and fund to benefit Special Olympics North Dakota (SOND)
 .  Polar Plunges offer a unique opportunity for individuals\, organization
 s\, and businesses to support Special Olympics North Dakota athletes by ra
 ising money and taking the plunge into frigid North Dakota waters.  \n\nMo
 re details coming soon...
X-WR-RELCALID:587a9a09e1f21b5cd86a023a1f5b22ac
X-WR-TIMEZONE:America/Chicago
BEGIN:VTIMEZONE
TZID:America/Chicago
BEGIN:STANDARD
TZNAME:CST
DTSTART:20171105T020000
TZOFFSETFROM:-0500
TZOFFSETTO:-0600
RDATE:20181104T020000
END:STANDARD
BEGIN:DAYLIGHT
TZNAME:CDT
DTSTART:20170312T020000
TZOFFSETFROM:-0600
TZOFFSETTO:-0500
RDATE:20180311T020000
RDATE:20190310T020000
END:DAYLIGHT
END:VTIMEZONE
BEGIN:VEVENT
UID:b9bfea51-1927-4633-a6e8-e555d93e7d72
DTSTAMP:20260423T020607Z
DESCRIPTION:The Polar Plunge is an annual fundraiser organized by North Dak
 ota Law Enforcement as part of the year-round Law Enforcement Torch Run to
  raise awareness and fund to benefit Special Olympics North Dakota (SOND).
   Polar Plunges offer a unique opportunity for individuals\, organizations
 \, and businesses to support Special Olympics North Dakota athletes by rai
 sing money and taking the plunge into frigid North Dakota waters.  \n\nMor
 e details coming soon...
DTSTART;TZID=America/Chicago:20180224T000000
DTEND;TZID=America/Chicago:20180224T235900
LOCATION:Elks Lodge #1199\, Bismarck\, ND
SUMMARY:Polar Plunge - Bismarck
END:VEVENT
END:VCALENDAR
