BEGIN:VCALENDAR
VERSION:2.0
PRODID:-//specialolympicsnd.org//NONSGML kigkonsult.se iCalcreator 2.30.10/
 /
CALSCALE:GREGORIAN
METHOD:PUBLISH
UID:e5ba5af4-b19c-434f-8c06-a77b3e7a9476
X-WR-CALDESC:
X-WR-RELCALID:a150a9afe0c1af8f8a7518340b180377
X-WR-TIMEZONE:America/Chicago
BEGIN:VTIMEZONE
TZID:America/Chicago
BEGIN:STANDARD
TZNAME:CST
DTSTART:20171105T020000
TZOFFSETFROM:-0500
TZOFFSETTO:-0600
RDATE:20181104T020000
END:STANDARD
BEGIN:DAYLIGHT
TZNAME:CDT
DTSTART:20170312T020000
TZOFFSETFROM:-0600
TZOFFSETTO:-0500
RDATE:20180311T020000
RDATE:20190310T020000
END:DAYLIGHT
END:VTIMEZONE
BEGIN:VEVENT
UID:c7571a78-bb8b-482b-bbee-aa61b0d76164
DTSTAMP:20260423T020511Z
DESCRIPTION:
DTSTART;TZID=America/Chicago:20180217T000000
DTEND;TZID=America/Chicago:20180217T235900
LOCATION:NDSU Campus\, Fargo\, ND
SUMMARY:SO College Rivalry Game
END:VEVENT
END:VCALENDAR
