BEGIN:VCALENDAR
VERSION:2.0
PRODID:-//specialolympicsnd.org//NONSGML kigkonsult.se iCalcreator 2.30.10/
 /
CALSCALE:GREGORIAN
METHOD:PUBLISH
UID:2487d62a-866d-4d20-bcfb-a320afd46db9
X-WR-CALDESC:
X-WR-RELCALID:3d447cec75ed578eb17ac5b7c421281f
X-WR-TIMEZONE:America/Chicago
BEGIN:VTIMEZONE
TZID:America/Chicago
BEGIN:STANDARD
TZNAME:CST
DTSTART:20171105T020000
TZOFFSETFROM:-0500
TZOFFSETTO:-0600
RDATE:20181104T020000
END:STANDARD
BEGIN:DAYLIGHT
TZNAME:CDT
DTSTART:20170312T020000
TZOFFSETFROM:-0600
TZOFFSETTO:-0500
RDATE:20180311T020000
RDATE:20190310T020000
END:DAYLIGHT
END:VTIMEZONE
BEGIN:VEVENT
UID:9b818e68-4d00-45a1-b5c6-c0ff28e5c993
DTSTAMP:20260423T020805Z
DESCRIPTION:
DTSTART;TZID=America/Chicago:20180210T000000
DTEND;TZID=America/Chicago:20180210T235900
LOCATION:Minot\, ND
SUMMARY:District I Basketball Tournament
END:VEVENT
END:VCALENDAR
