BEGIN:VCALENDAR
VERSION:2.0
PRODID:-//specialolympicsnd.org//NONSGML kigkonsult.se iCalcreator 2.30.10/
 /
CALSCALE:GREGORIAN
METHOD:PUBLISH
UID:8b5174cf-170a-4443-92e2-962c83b22e47
X-WR-CALDESC:
X-WR-RELCALID:f53352752949c142311f2c9105769466
X-WR-TIMEZONE:America/Chicago
BEGIN:VTIMEZONE
TZID:America/Chicago
BEGIN:STANDARD
TZNAME:CST
DTSTART:20171105T020000
TZOFFSETFROM:-0500
TZOFFSETTO:-0600
RDATE:20181104T020000
END:STANDARD
BEGIN:DAYLIGHT
TZNAME:CDT
DTSTART:20170312T020000
TZOFFSETFROM:-0600
TZOFFSETTO:-0500
RDATE:20180311T020000
RDATE:20190310T020000
END:DAYLIGHT
END:VTIMEZONE
BEGIN:VEVENT
UID:f8e9dc81-d52a-44e5-9263-68a97bb8d885
DTSTAMP:20260423T020541Z
DESCRIPTION:
DTSTART;TZID=America/Chicago:20180208T000000
DTEND;TZID=America/Chicago:20180208T235900
LOCATION:Online
SUMMARY:Giving Hearts Day
END:VEVENT
END:VCALENDAR
