BEGIN:VCALENDAR
VERSION:2.0
PRODID:-//specialolympicsnd.org//NONSGML kigkonsult.se iCalcreator 2.30.10/
 /
CALSCALE:GREGORIAN
METHOD:PUBLISH
UID:e1fff9dd-f0d2-4974-8aad-8e8d03824998
X-WR-CALDESC:Join us at restaurants statewide on February 6th for 'A Specia
 l Night Out!' This event was created to help raise funds and awareness for
  the North Dakota athletes who will be attending the Special Olympics USA 
 games. The 2018 games\, which will be in Seattle\, Washington from July 1s
 t to 7th\,  provide athletes with a once in a lifetime experience that the
 y will remember forever. The event will showcase the awe-inspiring abiliti
 es of athletes with intellectual disabilities\, promote the ideals of acce
 ptance and inclusion through sport and celebrate the transformative power 
 of Special Olympics.  SOND will be represented by a contingent of athletes
  with and without intellectual disabilities.\n\nRestaurants participating 
 in 'A Special Night Out' include:\n<ul><li><b>Bismarck</b> - Pirogue Grill
 e</li>\n<li><b>Fargo</b> - The Boiler Room</li>\n<li><b>Minot</b> - Elevat
 ion</li>\n<li><b>Grand Forks</b> - Sky's Cloud 9</li>\n<li><b>Devils Lake<
 /b> - The Ranch Steak House</li>\n<li><b>Dickinson</b> - BrickHouse Grille
 </li>\n<li><b>Valley City</b> - City Light's Supper Club</li>\n<li><b>Wahp
 eton</b> - Prante's</li>\n<li><b>Jamestown</b> - The Depot</li>\n<li><b>Ea
 st Grand Forks</b> - Blue Moose Bar & Grill</li>\n</ul>\n\nFor more inform
 ation\, please call Special Olympics North Dakota at (701) 746-0331.\n\n\n
X-WR-RELCALID:84efaa8059bff06866706a45c1bb77e9
X-WR-TIMEZONE:America/Chicago
BEGIN:VTIMEZONE
TZID:America/Chicago
BEGIN:STANDARD
TZNAME:CST
DTSTART:20171105T020000
TZOFFSETFROM:-0500
TZOFFSETTO:-0600
RDATE:20181104T020000
END:STANDARD
BEGIN:DAYLIGHT
TZNAME:CDT
DTSTART:20170312T020000
TZOFFSETFROM:-0600
TZOFFSETTO:-0500
RDATE:20180311T020000
RDATE:20190310T020000
END:DAYLIGHT
END:VTIMEZONE
BEGIN:VEVENT
UID:3c1b6fb5-d7fc-42dd-b617-eb8803b333ff
DTSTAMP:20260423T020451Z
DESCRIPTION:Join us at restaurants statewide on February 6th for 'A Special
  Night Out!' This event was created to help raise funds and awareness for 
 the North Dakota athletes who will be attending the Special Olympics USA g
 ames. The 2018 games\, which will be in Seattle\, Washington from July 1st
  to 7th\,  provide athletes with a once in a lifetime experience that they
  will remember forever. The event will showcase the awe-inspiring abilitie
 s of athletes with intellectual disabilities\, promote the ideals of accep
 tance and inclusion through sport and celebrate the transformative power o
 f Special Olympics.  SOND will be represented by a contingent of athletes 
 with and without intellectual disabilities.\n\nRestaurants participating i
 n 'A Special Night Out' include:\n<ul><li><b>Bismarck</b> - Pirogue Grille
 </li>\n<li><b>Fargo</b> - The Boiler Room</li>\n<li><b>Minot</b> - Elevati
 on</li>\n<li><b>Grand Forks</b> - Sky's Cloud 9</li>\n<li><b>Devils Lake</
 b> - The Ranch Steak House</li>\n<li><b>Dickinson</b> - BrickHouse Grille<
 /li>\n<li><b>Valley City</b> - City Light's Supper Club</li>\n<li><b>Wahpe
 ton</b> - Prante's</li>\n<li><b>Jamestown</b> - The Depot</li>\n<li><b>Eas
 t Grand Forks</b> - Blue Moose Bar & Grill</li>\n</ul>\n\nFor more informa
 tion\, please call Special Olympics North Dakota at (701) 746-0331.\n\n\n
DTSTART;TZID=America/Chicago:20180206T000000
DTEND;TZID=America/Chicago:20180206T235900
LOCATION:Participating Restaurants Statewide
SUMMARY:A Special Night Out
END:VEVENT
END:VCALENDAR
