BEGIN:VCALENDAR
VERSION:2.0
PRODID:-//specialolympicsnd.org//NONSGML kigkonsult.se iCalcreator 2.30.10/
 /
CALSCALE:GREGORIAN
METHOD:PUBLISH
UID:70ac8fc4-56d1-40df-8e71-89dd1ea1c772
X-WR-CALDESC:
X-WR-RELCALID:95e432979649fb4bc8c986d1e02f6433
X-WR-TIMEZONE:America/Chicago
BEGIN:VTIMEZONE
TZID:America/Chicago
BEGIN:STANDARD
TZNAME:CST
DTSTART:20171105T020000
TZOFFSETFROM:-0500
TZOFFSETTO:-0600
RDATE:20181104T020000
END:STANDARD
BEGIN:DAYLIGHT
TZNAME:CDT
DTSTART:20170312T020000
TZOFFSETFROM:-0600
TZOFFSETTO:-0500
RDATE:20180311T020000
RDATE:20190310T020000
END:DAYLIGHT
END:VTIMEZONE
BEGIN:VEVENT
UID:a9bbd84a-bd72-4ab6-b5d6-60825f664672
DTSTAMP:20260423T020826Z
DESCRIPTION:
DTSTART;TZID=America/Chicago:20180203T000000
DTEND;TZID=America/Chicago:20180203T235900
LOCATION:East Grand Forks Middle School\, East Grand Forks\, MN
SUMMARY:District II Basketball Tournament
END:VEVENT
END:VCALENDAR
