BEGIN:VCALENDAR
VERSION:2.0
PRODID:-//specialolympicsnd.org//NONSGML kigkonsult.se iCalcreator 2.30.10/
 /
CALSCALE:GREGORIAN
METHOD:PUBLISH
UID:6e7fb2f6-2550-4ec3-a499-f4f15611c8ce
X-WR-CALDESC:Join Special Olympics North Dakota at the Bottineau Winter Par
 k for the 2018 SOND State Winter Games. The multi-sport event held January
  26-27\, 2018\, will feature close to 100 participants from communities ac
 ross North Dakota competing in the sports of Alpine Skiing\, Cross Country
  Skiing\, and Snow Shoe racing.
X-WR-RELCALID:b5740628695431f97b9df4f8cfefd549
X-WR-TIMEZONE:America/Chicago
BEGIN:VTIMEZONE
TZID:America/Chicago
BEGIN:STANDARD
TZNAME:CST
DTSTART:20171105T020000
TZOFFSETFROM:-0500
TZOFFSETTO:-0600
RDATE:20181104T020000
END:STANDARD
BEGIN:DAYLIGHT
TZNAME:CDT
DTSTART:20170312T020000
TZOFFSETFROM:-0600
TZOFFSETTO:-0500
RDATE:20180311T020000
RDATE:20190310T020000
END:DAYLIGHT
END:VTIMEZONE
BEGIN:VEVENT
UID:e306f669-51ee-4a23-b03c-dafe4d34ff97
DTSTAMP:20260423T020452Z
DESCRIPTION:Join Special Olympics North Dakota at the Bottineau Winter Park
  for the 2018 SOND State Winter Games. The multi-sport event held January 
 26-27\, 2018\, will feature close to 100 participants from communities acr
 oss North Dakota competing in the sports of Alpine Skiing\, Cross Country 
 Skiing\, and Snow Shoe racing.
DTSTART;TZID=America/Chicago:20180126T000000
DTEND;TZID=America/Chicago:20180127T235900
LOCATION:Bottineau Winter Park\, Bottineau\, ND
SUMMARY:State Winter Games
END:VEVENT
END:VCALENDAR
