BEGIN:VCALENDAR
VERSION:2.0
PRODID:-//specialolympicsnd.org//NONSGML kigkonsult.se iCalcreator 2.30.10/
 /
CALSCALE:GREGORIAN
METHOD:PUBLISH
UID:40fbf11f-a93e-4396-a379-5b5844c55d1c
X-WR-CALDESC:Details coming soon...
X-WR-RELCALID:796c88968c14ea59ec3a81e9d390b7de
X-WR-TIMEZONE:America/Chicago
BEGIN:VTIMEZONE
TZID:America/Chicago
BEGIN:STANDARD
TZNAME:CST
DTSTART:20171105T020000
TZOFFSETFROM:-0500
TZOFFSETTO:-0600
RDATE:20181104T020000
END:STANDARD
BEGIN:DAYLIGHT
TZNAME:CDT
DTSTART:20170312T020000
TZOFFSETFROM:-0600
TZOFFSETTO:-0500
RDATE:20180311T020000
RDATE:20190310T020000
END:DAYLIGHT
END:VTIMEZONE
BEGIN:VEVENT
UID:9ed5f7e4-cb83-4edf-9f84-e3e22834b954
DTSTAMP:20260423T020652Z
DESCRIPTION:Details coming soon...
DTSTART;TZID=America/Chicago:20180107T000000
DTEND;TZID=America/Chicago:20180107T235900
LOCATION:Valley City\, ND
SUMMARY:Snow Sports Invitational
END:VEVENT
END:VCALENDAR
