BEGIN:VCALENDAR
VERSION:2.0
PRODID:-//specialolympicsnd.org//NONSGML kigkonsult.se iCalcreator 2.30.10/
 /
CALSCALE:GREGORIAN
METHOD:PUBLISH
UID:9c321bc9-da92-4849-a84d-dc428ab2d7a4
X-WR-CALDESC:The Cool Cash raffle is a “Calendar Raffle”. The raffle runs a
 t the end of every calendar year. During that time\, $200 will be given aw
 ay every weekday (Monday-Friday)\, and $500 will be given away on weekend 
 days (Saturday-Sunday).  Raffle winners will be listed on our website dail
 y\, except over weekends\, when they will be added the following Monday.\n
 \nThe 2017 raffle will run from Friday\, November 24th - Saturday\, Decemb
 er 16th. Winners will be drawn at 10:00 am each day\, with the results pos
 ted on this page shortly after. Tickets are $10 and may be purchased by ca
 lling Special Olympics North Dakota at (701) 746-0331.\nBe advised: Ticket
  may win more than once! Need not be present to win. Purchase of Ticket is
  not a charitable contribution to Dickinson Charities\, 67 21st St. E\, Di
 ckinson\, ND.
X-WR-RELCALID:48a3f82f63ef73969aa28898e3ac30a1
X-WR-TIMEZONE:America/Chicago
BEGIN:VTIMEZONE
TZID:America/Chicago
BEGIN:STANDARD
TZNAME:CST
DTSTART:20171105T020000
TZOFFSETFROM:-0500
TZOFFSETTO:-0600
RDATE:20181104T020000
END:STANDARD
BEGIN:DAYLIGHT
TZNAME:CDT
DTSTART:20170312T020000
TZOFFSETFROM:-0600
TZOFFSETTO:-0500
RDATE:20180311T020000
RDATE:20190310T020000
END:DAYLIGHT
END:VTIMEZONE
BEGIN:VEVENT
UID:a9ae8b15-6a58-475a-9a70-36fed4bf440e
DTSTAMP:20260423T031305Z
DESCRIPTION:The Cool Cash raffle is a “Calendar Raffle”. The raffle runs at
  the end of every calendar year. During that time\, $200 will be given awa
 y every weekday (Monday-Friday)\, and $500 will be given away on weekend d
 ays (Saturday-Sunday).  Raffle winners will be listed on our website daily
 \, except over weekends\, when they will be added the following Monday.\n
 \nThe 2017 raffle will run from Friday\, November 24th - Saturday\, Decemb
 er 16th. Winners will be drawn at 10:00 am each day\, with the results pos
 ted on this page shortly after. Tickets are $10 and may be purchased by ca
 lling Special Olympics North Dakota at (701) 746-0331.\nBe advised: Ticket
  may win more than once! Need not be present to win. Purchase of Ticket is
  not a charitable contribution to Dickinson Charities\, 67 21st St. E\, Di
 ckinson\, ND.
DTSTART;TZID=America/Chicago:20171124T000000
DTEND;TZID=America/Chicago:20171217T235900
LOCATION:
SUMMARY:Cool Cash Raffle
END:VEVENT
END:VCALENDAR
