BEGIN:VCALENDAR
VERSION:2.0
PRODID:-//specialolympicsnd.org//NONSGML kigkonsult.se iCalcreator 2.30.10/
 /
CALSCALE:GREGORIAN
METHOD:PUBLISH
UID:71042b9c-794f-43c7-9ea6-5dd8f420de89
X-WR-CALDESC:
X-WR-RELCALID:3f5da849dbb7e356bf9bffb40616c16f
X-WR-TIMEZONE:America/Chicago
BEGIN:VTIMEZONE
TZID:America/Chicago
BEGIN:STANDARD
TZNAME:CST
DTSTART:20171105T020000
TZOFFSETFROM:-0500
TZOFFSETTO:-0600
RDATE:20181104T020000
END:STANDARD
BEGIN:DAYLIGHT
TZNAME:CDT
DTSTART:20170312T020000
TZOFFSETFROM:-0600
TZOFFSETTO:-0500
RDATE:20180311T020000
RDATE:20190310T020000
END:DAYLIGHT
END:VTIMEZONE
BEGIN:VEVENT
UID:78259657-dcba-4772-a160-d9dcb7dfb3bb
DTSTAMP:20260423T031520Z
DESCRIPTION:
DTSTART;TZID=America/Chicago:20171205T000000
DTEND;TZID=America/Chicago:20171205T235900
LOCATION:Holy Family Church\, Grand Forks
SUMMARY:Grand Forks Area Banquet
END:VEVENT
END:VCALENDAR
