BEGIN:VCALENDAR
VERSION:2.0
PRODID:-//specialolympicsnd.org//NONSGML kigkonsult.se iCalcreator 2.30.10/
 /
CALSCALE:GREGORIAN
METHOD:PUBLISH
UID:8a2225cd-44c9-4142-833f-9e02a7119eda
X-WR-CALDESC:
X-WR-RELCALID:2fb10f31ea068c512fb9581a3da3d526
X-WR-TIMEZONE:America/Chicago
BEGIN:VTIMEZONE
TZID:America/Chicago
BEGIN:STANDARD
TZNAME:CST
DTSTART:20171105T020000
TZOFFSETFROM:-0500
TZOFFSETTO:-0600
RDATE:20181104T020000
END:STANDARD
BEGIN:DAYLIGHT
TZNAME:CDT
DTSTART:20170312T020000
TZOFFSETFROM:-0600
TZOFFSETTO:-0500
RDATE:20180311T020000
RDATE:20190310T020000
END:DAYLIGHT
END:VTIMEZONE
BEGIN:VEVENT
UID:5cb64c52-ec72-4354-86f4-0ab90ced6360
DTSTAMP:20260423T031317Z
DESCRIPTION:
DTSTART;TZID=America/Chicago:20171118T000000
DTEND;TZID=America/Chicago:20171119T235900
LOCATION:Ramada - Fargo\, ND
SUMMARY:State Leadership Conference & Banquet
END:VEVENT
END:VCALENDAR
