BEGIN:VCALENDAR
VERSION:2.0
PRODID:-//specialolympicsnd.org//NONSGML kigkonsult.se iCalcreator 2.30.10/
 /
CALSCALE:GREGORIAN
METHOD:PUBLISH
UID:918f0482-7991-448d-9be2-6e4ae5277a82
X-WR-CALDESC:Join us in Mandan for the 32nd Annual Special Olympics North D
 akota State Bowling Tournament!\nThis two-day competition will be held on 
 November 4th and 5th at Midway Lanes\, and will showcase more than 650 Spe
 cial Olympics athletes from across the state.\n\n<p><a href='/file_downloa
 d/inline/9a74c254-8e0c-4e31-a9da-8236454e83e7' target='_blank' rel='norefe
 rrer noopener'>State Bowling Divisions</a> | <a href='/file_download/inlin
 e/c530b813-69b1-4068-98bb-ad5463e61da5' target='_blank' rel='noreferrer no
 opener'>Tournament Schedule</a></p>\n\nThere are still volunteer and spons
 orship opportunities available for this tournament. For more information\,
  please contact Special Olympics North Dakota at (701) 746-0331 or email i
 nfo@specialolympicsnd.org. \n\nSpecial thanks to our Gold Medal Event Spon
 sors: <strong>N.D. State USBC WBA\, Inc</strong> and <strong>Walmart</stro
 ng>!
X-WR-RELCALID:cdf9a8238e87e15c8520c11fedc68eac
X-WR-TIMEZONE:America/Chicago
BEGIN:VTIMEZONE
TZID:America/Chicago
BEGIN:STANDARD
TZNAME:CST
DTSTART:20161106T020000
TZOFFSETFROM:-0500
TZOFFSETTO:-0600
RDATE:20171105T020000
RDATE:20181104T020000
END:STANDARD
BEGIN:DAYLIGHT
TZNAME:CDT
DTSTART:20170312T020000
TZOFFSETFROM:-0600
TZOFFSETTO:-0500
RDATE:20180311T020000
RDATE:20190310T020000
END:DAYLIGHT
END:VTIMEZONE
BEGIN:VEVENT
UID:03bee721-8374-405e-9d92-1517d030ee19
DTSTAMP:20260423T031246Z
DESCRIPTION:Join us in Mandan for the 32nd Annual Special Olympics North Da
 kota State Bowling Tournament!\nThis two-day competition will be held on N
 ovember 4th and 5th at Midway Lanes\, and will showcase more than 650 Spec
 ial Olympics athletes from across the state.\n\n<p><a href='/file_download
 /inline/9a74c254-8e0c-4e31-a9da-8236454e83e7' target='_blank' rel='norefer
 rer noopener'>State Bowling Divisions</a> | <a href='/file_download/inline
 /c530b813-69b1-4068-98bb-ad5463e61da5' target='_blank' rel='noreferrer noo
 pener'>Tournament Schedule</a></p>\n\nThere are still volunteer and sponso
 rship opportunities available for this tournament. For more information\, 
 please contact Special Olympics North Dakota at (701) 746-0331 or email in
 fo@specialolympicsnd.org. \n\nSpecial thanks to our Gold Medal Event Spons
 ors: <strong>N.D. State USBC WBA\, Inc</strong> and <strong>Walmart</stron
 g>!
DTSTART;TZID=America/Chicago:20171104T000000
DTEND;TZID=America/Chicago:20171105T235900
LOCATION:Midway Lanes - Mandan\, ND
SUMMARY:State Bowling Tournament
END:VEVENT
END:VCALENDAR
