BEGIN:VCALENDAR
VERSION:2.0
PRODID:-//specialolympicsnd.org//NONSGML kigkonsult.se iCalcreator 2.30.10/
 /
CALSCALE:GREGORIAN
METHOD:PUBLISH
UID:707ac566-e772-4830-b07c-a9c674cd4af7
X-WR-CALDESC:
X-WR-RELCALID:e7eec57645a20d1cf651ea698576741b
X-WR-TIMEZONE:America/Chicago
BEGIN:VTIMEZONE
TZID:America/Chicago
BEGIN:STANDARD
TZNAME:CST
DTSTART:20161106T020000
TZOFFSETFROM:-0500
TZOFFSETTO:-0600
RDATE:20171105T020000
RDATE:20181104T020000
END:STANDARD
BEGIN:DAYLIGHT
TZNAME:CDT
DTSTART:20170312T020000
TZOFFSETFROM:-0600
TZOFFSETTO:-0500
RDATE:20180311T020000
RDATE:20190310T020000
END:DAYLIGHT
END:VTIMEZONE
BEGIN:VEVENT
UID:b243ab82-5663-4b7a-8c81-4ffda239d00a
DTSTAMP:20260423T031433Z
DESCRIPTION:
DTSTART;TZID=America/Chicago:20171031T000000
DTEND;TZID=America/Chicago:20171031T235900
LOCATION:Wahpeton\, ND
SUMMARY:Area 7 Bowling Tournament
END:VEVENT
END:VCALENDAR
