BEGIN:VCALENDAR
VERSION:2.0
PRODID:-//specialolympicsnd.org//NONSGML kigkonsult.se iCalcreator 2.30.10/
 /
CALSCALE:GREGORIAN
METHOD:PUBLISH
UID:0f443835-3b8d-4a79-bc62-8381c071ffc0
X-WR-CALDESC:
X-WR-RELCALID:4b423024f67b41fa1fbfbbb50bc21d48
X-WR-TIMEZONE:America/Chicago
BEGIN:VTIMEZONE
TZID:America/Chicago
BEGIN:STANDARD
TZNAME:CST
DTSTART:20161106T020000
TZOFFSETFROM:-0500
TZOFFSETTO:-0600
RDATE:20171105T020000
RDATE:20181104T020000
END:STANDARD
BEGIN:DAYLIGHT
TZNAME:CDT
DTSTART:20170312T020000
TZOFFSETFROM:-0600
TZOFFSETTO:-0500
RDATE:20180311T020000
RDATE:20190310T020000
END:DAYLIGHT
END:VTIMEZONE
BEGIN:VEVENT
UID:045d7fac-4050-4e26-99cc-f57239846eed
DTSTAMP:20260423T031432Z
DESCRIPTION:
DTSTART;TZID=America/Chicago:20171022T000000
DTEND;TZID=America/Chicago:20171022T235900
LOCATION:Jamestown\, ND
SUMMARY:Area 9 Bowling Tournament
END:VEVENT
END:VCALENDAR
