BEGIN:VCALENDAR
VERSION:2.0
PRODID:-//specialolympicsnd.org//NONSGML kigkonsult.se iCalcreator 2.30.10/
 /
CALSCALE:GREGORIAN
METHOD:PUBLISH
UID:450c7212-e6ff-4a2d-ba02-e3a53745cb63
X-WR-CALDESC:Teams from the University of North Dakota\, North Dakota State
  University\, and Minot State University will converge on the Memorial Sta
 dium Field at UND in Grand Forks for the 3rd Annual SO College Flag Footba
 ll Tournament.\n\nSchedule:\n10:00 am - Registration\n12:15 pm - Opening C
 eremonies\n1:00 pm - UND Green vs. NDSU\, MSU vs. UND White\n2:15 pm - UND
  Green vs. MSU\, NDSU vs. UND White\n3:30 pm - UND Green vs. UND White\, N
 DSU vs. MSU\n4:30 - Awards Ceremony\n
X-WR-RELCALID:a47a621014d73c5bd36471f038d5f6a1
X-WR-TIMEZONE:America/Chicago
BEGIN:VTIMEZONE
TZID:America/Chicago
BEGIN:STANDARD
TZNAME:CST
DTSTART:20161106T020000
TZOFFSETFROM:-0500
TZOFFSETTO:-0600
RDATE:20171105T020000
RDATE:20181104T020000
END:STANDARD
BEGIN:DAYLIGHT
TZNAME:CDT
DTSTART:20170312T020000
TZOFFSETFROM:-0600
TZOFFSETTO:-0500
RDATE:20180311T020000
RDATE:20190310T020000
END:DAYLIGHT
END:VTIMEZONE
BEGIN:VEVENT
UID:160637b1-0804-43e1-a6ea-dff2df5ed17c
DTSTAMP:20260423T031518Z
DESCRIPTION:Teams from the University of North Dakota\, North Dakota State 
 University\, and Minot State University will converge on the Memorial Stad
 ium Field at UND in Grand Forks for the 3rd Annual SO College Flag Footbal
 l Tournament.\n\nSchedule:\n10:00 am - Registration\n12:15 pm - Opening Ce
 remonies\n1:00 pm - UND Green vs. NDSU\, MSU vs. UND White\n2:15 pm - UND 
 Green vs. MSU\, NDSU vs. UND White\n3:30 pm - UND Green vs. UND White\, ND
 SU vs. MSU\n4:30 - Awards Ceremony\n
DTSTART;TZID=America/Chicago:20171014T100000
DTEND;TZID=America/Chicago:20171015T170000
LOCATION:University of North Dakota Memorial Stadium\, Grand Forks
SUMMARY:SO College Flag Football
END:VEVENT
END:VCALENDAR
