BEGIN:VCALENDAR
VERSION:2.0
PRODID:-//specialolympicsnd.org//NONSGML kigkonsult.se iCalcreator 2.30.10/
 /
CALSCALE:GREGORIAN
METHOD:PUBLISH
UID:be6df0a3-b440-4803-b974-12f9cb12cece
X-WR-CALDESC:
X-WR-RELCALID:318d1c3e5ccdd604ece72bce40958e98
X-WR-TIMEZONE:America/Chicago
BEGIN:VTIMEZONE
TZID:America/Chicago
BEGIN:STANDARD
TZNAME:CST
DTSTART:20161106T020000
TZOFFSETFROM:-0500
TZOFFSETTO:-0600
RDATE:20171105T020000
RDATE:20181104T020000
END:STANDARD
BEGIN:DAYLIGHT
TZNAME:CDT
DTSTART:20170312T020000
TZOFFSETFROM:-0600
TZOFFSETTO:-0500
RDATE:20180311T020000
RDATE:20190310T020000
END:DAYLIGHT
END:VTIMEZONE
BEGIN:VEVENT
UID:d01ea319-a4ba-40fd-9834-b11f8f66975f
DTSTAMP:20260423T031357Z
DESCRIPTION:
DTSTART;TZID=America/Chicago:20171015T000000
DTEND;TZID=America/Chicago:20171015T235900
LOCATION:Fargo\, ND
SUMMARY:Area 6 Bowling Tournament
END:VEVENT
END:VCALENDAR
