BEGIN:VCALENDAR
VERSION:2.0
PRODID:-//specialolympicsnd.org//NONSGML kigkonsult.se iCalcreator 2.30.10/
 /
CALSCALE:GREGORIAN
METHOD:PUBLISH
UID:9458bcbd-9b81-454b-a0d6-2421a4035a4a
X-WR-CALDESC:
X-WR-RELCALID:ab27ee610c2483b294d7e5291bda1d2d
X-WR-TIMEZONE:America/Chicago
BEGIN:VTIMEZONE
TZID:America/Chicago
BEGIN:STANDARD
TZNAME:CST
DTSTART:20161106T020000
TZOFFSETFROM:-0500
TZOFFSETTO:-0600
RDATE:20171105T020000
RDATE:20181104T020000
END:STANDARD
BEGIN:DAYLIGHT
TZNAME:CDT
DTSTART:20170312T020000
TZOFFSETFROM:-0600
TZOFFSETTO:-0500
RDATE:20180311T020000
RDATE:20190310T020000
END:DAYLIGHT
END:VTIMEZONE
BEGIN:VEVENT
UID:af9549f6-60d8-4438-b3bb-5613221f1cda
DTSTAMP:20260423T031448Z
DESCRIPTION:
DTSTART;TZID=America/Chicago:20171015T000000
DTEND;TZID=America/Chicago:20171015T235900
LOCATION:Midway Lanes\, Mandan\, ND
SUMMARY:Area 10/11 Bowling Tournament
END:VEVENT
END:VCALENDAR
