BEGIN:VCALENDAR
VERSION:2.0
PRODID:-//specialolympicsnd.org//NONSGML kigkonsult.se iCalcreator 2.30.10/
 /
CALSCALE:GREGORIAN
METHOD:PUBLISH
UID:fbd33ad3-adb5-4770-89c2-579409fa2da3
X-WR-CALDESC:
X-WR-RELCALID:72a98007fe1e986bc0f3a6dec9c37363
X-WR-TIMEZONE:America/Chicago
BEGIN:VTIMEZONE
TZID:America/Chicago
BEGIN:STANDARD
TZNAME:CST
DTSTART:20161106T020000
TZOFFSETFROM:-0500
TZOFFSETTO:-0600
RDATE:20171105T020000
RDATE:20181104T020000
END:STANDARD
BEGIN:DAYLIGHT
TZNAME:CDT
DTSTART:20170312T020000
TZOFFSETFROM:-0600
TZOFFSETTO:-0500
RDATE:20180311T020000
RDATE:20190310T020000
END:DAYLIGHT
END:VTIMEZONE
BEGIN:VEVENT
UID:772e55ff-6593-475c-b0f9-e260eb5e8a84
DTSTAMP:20260423T031433Z
DESCRIPTION:
DTSTART;TZID=America/Chicago:20171014T000000
DTEND;TZID=America/Chicago:20171014T235900
LOCATION:Minot\, ND
SUMMARY:Area 2 Bowling Tournament
END:VEVENT
END:VCALENDAR
