BEGIN:VCALENDAR
VERSION:2.0
PRODID:-//specialolympicsnd.org//NONSGML kigkonsult.se iCalcreator 2.30.10/
 /
CALSCALE:GREGORIAN
METHOD:PUBLISH
UID:d2b6aa04-2a45-47a6-8bcf-b619d15798e5
X-WR-CALDESC:
X-WR-RELCALID:f0ac5dddab4e1d41490dcaf1026bbba4
X-WR-TIMEZONE:America/Chicago
BEGIN:VTIMEZONE
TZID:America/Chicago
BEGIN:STANDARD
TZNAME:CST
DTSTART:20161106T020000
TZOFFSETFROM:-0500
TZOFFSETTO:-0600
RDATE:20171105T020000
RDATE:20181104T020000
END:STANDARD
BEGIN:DAYLIGHT
TZNAME:CDT
DTSTART:20170312T020000
TZOFFSETFROM:-0600
TZOFFSETTO:-0500
RDATE:20180311T020000
RDATE:20190310T020000
END:DAYLIGHT
END:VTIMEZONE
BEGIN:VEVENT
UID:ed01e105-a7a6-42ce-9805-5073437ccb29
DTSTAMP:20260423T031245Z
DESCRIPTION:
DTSTART;TZID=America/Chicago:20171013T000000
DTEND;TZID=America/Chicago:20171013T235900
LOCATION:Dickinson State University\, Dickinson\, ND
SUMMARY:5K Zombie Walk/Run
END:VEVENT
END:VCALENDAR
