BEGIN:VCALENDAR
VERSION:2.0
PRODID:-//specialolympicsnd.org//NONSGML kigkonsult.se iCalcreator 2.30.10/
 /
CALSCALE:GREGORIAN
METHOD:PUBLISH
UID:96bbf17b-4460-433b-84a2-727fa7327bd5
X-WR-CALDESC:“Dancing for Special Stars” is a dance contest patterned after
  the hit television program “Dancing with the Stars.” This event is a fund
 raiser for Special Olympics North Dakota (SOND) and will feature area cele
 brities paired with local dance instructors.  Each couple will perform a d
 ance of their choice.\nThis year's event will take place on October 11th a
 t 6:00 pm at the Ann Nicole Nelson Hall at Minot State University.\n\nSche
 dule:\n6:15 pm - Reception and appetizers\n7:00 pm - Show time\n\nTickets 
 are $25 and can be purchased by calling Special Olympics North Dakota at (
 701) 746-0331.\n
X-WR-RELCALID:673abf63b20fbb8b2d67713f15e5823a
X-WR-TIMEZONE:America/Chicago
BEGIN:VTIMEZONE
TZID:America/Chicago
BEGIN:STANDARD
TZNAME:CST
DTSTART:20161106T020000
TZOFFSETFROM:-0500
TZOFFSETTO:-0600
RDATE:20171105T020000
RDATE:20181104T020000
END:STANDARD
BEGIN:DAYLIGHT
TZNAME:CDT
DTSTART:20170312T020000
TZOFFSETFROM:-0600
TZOFFSETTO:-0500
RDATE:20180311T020000
RDATE:20190310T020000
END:DAYLIGHT
END:VTIMEZONE
BEGIN:VEVENT
UID:848b1ae7-b146-48a2-8e85-5e38f5e01d81
DTSTAMP:20260423T031342Z
DESCRIPTION:“Dancing for Special Stars” is a dance contest patterned after 
 the hit television program “Dancing with the Stars.” This event is a fundr
 aiser for Special Olympics North Dakota (SOND) and will feature area celeb
 rities paired with local dance instructors.  Each couple will perform a da
 nce of their choice.\nThis year's event will take place on October 11th at
  6:00 pm at the Ann Nicole Nelson Hall at Minot State University.\n\nSched
 ule:\n6:15 pm - Reception and appetizers\n7:00 pm - Show time\n\nTickets a
 re $25 and can be purchased by calling Special Olympics North Dakota at (7
 01) 746-0331.\n
DTSTART;TZID=America/Chicago:20171011T000000
DTEND;TZID=America/Chicago:20171011T235900
LOCATION:Ann Nicole Nelson-MSU\, Minot
SUMMARY:Dancing for Special Stars
END:VEVENT
END:VCALENDAR
