BEGIN:VCALENDAR
VERSION:2.0
PRODID:-//specialolympicsnd.org//NONSGML kigkonsult.se iCalcreator 2.30.10/
 /
CALSCALE:GREGORIAN
METHOD:PUBLISH
UID:d3db172a-881b-4024-8b59-14130490f2c8
X-WR-CALDESC:
X-WR-RELCALID:7f881a6840550ea4193870da8d92a524
X-WR-TIMEZONE:America/Chicago
BEGIN:VTIMEZONE
TZID:America/Chicago
BEGIN:STANDARD
TZNAME:CST
DTSTART:20161106T020000
TZOFFSETFROM:-0500
TZOFFSETTO:-0600
RDATE:20171105T020000
RDATE:20181104T020000
END:STANDARD
BEGIN:DAYLIGHT
TZNAME:CDT
DTSTART:20170312T020000
TZOFFSETFROM:-0600
TZOFFSETTO:-0500
RDATE:20180311T020000
RDATE:20190310T020000
END:DAYLIGHT
END:VTIMEZONE
BEGIN:VEVENT
UID:fc30c9e8-3750-4fe8-82d3-6bea9d51df44
DTSTAMP:20260423T031440Z
DESCRIPTION:
DTSTART;TZID=America/Chicago:20171007T000000
DTEND;TZID=America/Chicago:20171007T235900
LOCATION:Dickinson\, ND
SUMMARY:Area 12 Bowling Tournament
END:VEVENT
END:VCALENDAR
