BEGIN:VCALENDAR
VERSION:2.0
PRODID:-//specialolympicsnd.org//NONSGML kigkonsult.se iCalcreator 2.30.10/
 /
CALSCALE:GREGORIAN
METHOD:PUBLISH
UID:75cf95ee-5a69-4a36-b365-0719c8693902
X-WR-CALDESC:<a href='http://specialolympicsnd.org/events/letr-events/truck
 -convoy.html'>Click here to view information about the event.</a>
X-WR-RELCALID:1bea00c686487224e7ef6df522e11932
X-WR-TIMEZONE:America/Chicago
BEGIN:VTIMEZONE
TZID:America/Chicago
BEGIN:STANDARD
TZNAME:CST
DTSTART:20161106T020000
TZOFFSETFROM:-0500
TZOFFSETTO:-0600
RDATE:20171105T020000
RDATE:20181104T020000
END:STANDARD
BEGIN:DAYLIGHT
TZNAME:CDT
DTSTART:20170312T020000
TZOFFSETFROM:-0600
TZOFFSETTO:-0500
RDATE:20180311T020000
RDATE:20190310T020000
END:DAYLIGHT
END:VTIMEZONE
BEGIN:VEVENT
UID:561d39ac-b5c1-4e42-8b5a-ac9022c9f3b7
DTSTAMP:20260423T031318Z
DESCRIPTION:<a href='http://specialolympicsnd.org/events/letr-events/truck-
 convoy.html'>Click here to view information about the event.</a>
DTSTART;TZID=America/Chicago:20170923T000000
DTEND;TZID=America/Chicago:20170923T235900
LOCATION:SuperValu - Fargo\, ND
SUMMARY:Truck Convoy
END:VEVENT
END:VCALENDAR
