BEGIN:VCALENDAR
VERSION:2.0
PRODID:-//specialolympicsnd.org//NONSGML kigkonsult.se iCalcreator 2.30.10/
 /
CALSCALE:GREGORIAN
METHOD:PUBLISH
UID:6008dce6-9979-4ec6-96b7-ac54da858022
X-WR-CALDESC:Each Fall\, more than 100 law enforcement personnel volunteer 
 their time\, hosting guests in Applebee‘s Neighborhood Grill and Bars acro
 ss the state to raise awareness and tip money for Special Olympics. The La
 w Enforcement Torch Run group\, which consists of volunteers from all agen
 cies of law enforcement has hosted the event for over 10 years. This year\
 , the event will be held at Applebee's locations in Bismarck\, Devils Lake
 \, Dickinson\, Fargo\, Grand Forks\, Jamestown\, Minot\, and Williston.
X-WR-RELCALID:058157d6bd89d9d17887945e41f536eb
X-WR-TIMEZONE:America/Chicago
BEGIN:VTIMEZONE
TZID:America/Chicago
BEGIN:STANDARD
TZNAME:CST
DTSTART:20161106T020000
TZOFFSETFROM:-0500
TZOFFSETTO:-0600
RDATE:20171105T020000
RDATE:20181104T020000
END:STANDARD
BEGIN:DAYLIGHT
TZNAME:CDT
DTSTART:20170312T020000
TZOFFSETFROM:-0600
TZOFFSETTO:-0500
RDATE:20180311T020000
RDATE:20190310T020000
END:DAYLIGHT
END:VTIMEZONE
BEGIN:VEVENT
UID:d66f3f10-d80f-4aef-8ffe-62f5eb82943d
DTSTAMP:20260423T031145Z
DESCRIPTION:Each Fall\, more than 100 law enforcement personnel volunteer t
 heir time\, hosting guests in Applebee‘s Neighborhood Grill and Bars acros
 s the state to raise awareness and tip money for Special Olympics. The Law
  Enforcement Torch Run group\, which consists of volunteers from all agenc
 ies of law enforcement has hosted the event for over 10 years. This year\,
  the event will be held at Applebee's locations in Bismarck\, Devils Lake\
 , Dickinson\, Fargo\, Grand Forks\, Jamestown\, Minot\, and Williston.
DTSTART;TZID=America/Chicago:20170919T000000
DTEND;TZID=America/Chicago:20170920T235900
LOCATION:Applebee's Locations in ND
SUMMARY:Applebee's Tip-A-Cop
END:VEVENT
END:VCALENDAR
