BEGIN:VCALENDAR
VERSION:2.0
PRODID:-//specialolympicsnd.org//NONSGML kigkonsult.se iCalcreator 2.30.10/
 /
CALSCALE:GREGORIAN
METHOD:PUBLISH
UID:431afc9d-a1d3-4022-b787-f67acc814c0d
X-WR-CALDESC:When: September 16 (Saturday) – September 17\, (Sunday) 2017\n
 Where: South Middle School\, Grand Forks Central High School\, Grand Forks
 \, ND\nWho: More than 400 Special Olympics athletes from across North Dako
 ta \n\n<a href='https://flic.kr/s/aHsm4egdaR'>CLICK HERE TO VIEW PHOTOS FR
 OM THE TOURNAMENT</a>\n<a href='https://drive.google.com/open?id=0BwFYRgjN
 SAIdcFdaSl9zZEN5T3M' target='_blank' rel='noreferrer noopener'>Soccer Resu
 lts</a>\n<a href='https://drive.google.com/open?id=0BwFYRgjNSAIdWVd5VTQwVF
 ljb2c' target='_blank' rel='noreferrer noopener'>Bocce Results</a>\n\nThan
 k you to our Gold and Silver sponsors for this year's tournament!\n\nGold:
  \nUnited Commercial Traveler\, Myra Foundation\, Grand Forks Air Force Ba
 se/Sports Car Club of America-Badlands Region\, Greater Grand Forks Conven
 tion & Visitors Bureau\n\nSilver: \nLittle Miracle's\, Inc.\, Retrax Holdi
 ngs\, LLC\n\nFor more information on the State Soccer/Bocce Tournament or 
 to volunteer\ncall SOND at (701)746-0331 or email info@specialolympicsnd.o
 rg
X-WR-RELCALID:74ab939b019248d4efe0f7efacc9c3e9
X-WR-TIMEZONE:America/Chicago
BEGIN:VTIMEZONE
TZID:America/Chicago
BEGIN:STANDARD
TZNAME:CST
DTSTART:20161106T020000
TZOFFSETFROM:-0500
TZOFFSETTO:-0600
RDATE:20171105T020000
RDATE:20181104T020000
END:STANDARD
BEGIN:DAYLIGHT
TZNAME:CDT
DTSTART:20170312T020000
TZOFFSETFROM:-0600
TZOFFSETTO:-0500
RDATE:20180311T020000
RDATE:20190310T020000
END:DAYLIGHT
END:VTIMEZONE
BEGIN:VEVENT
UID:6fa41548-3779-442c-8148-ee7228810e23
DTSTAMP:20260423T031357Z
DESCRIPTION:When: September 16 (Saturday) – September 17\, (Sunday) 2017\nW
 here: South Middle School\, Grand Forks Central High School\, Grand Forks\
 , ND\nWho: More than 400 Special Olympics athletes from across North Dakot
 a \n\n<a href='https://flic.kr/s/aHsm4egdaR'>CLICK HERE TO VIEW PHOTOS FRO
 M THE TOURNAMENT</a>\n<a href='https://drive.google.com/open?id=0BwFYRgjNS
 AIdcFdaSl9zZEN5T3M' target='_blank' rel='noreferrer noopener'>Soccer Resul
 ts</a>\n<a href='https://drive.google.com/open?id=0BwFYRgjNSAIdWVd5VTQwVFl
 jb2c' target='_blank' rel='noreferrer noopener'>Bocce Results</a>\n\nThank
  you to our Gold and Silver sponsors for this year's tournament!\n\nGold: 
 \nUnited Commercial Traveler\, Myra Foundation\, Grand Forks Air Force Bas
 e/Sports Car Club of America-Badlands Region\, Greater Grand Forks Convent
 ion & Visitors Bureau\n\nSilver: \nLittle Miracle's\, Inc.\, Retrax Holdin
 gs\, LLC\n\nFor more information on the State Soccer/Bocce Tournament or t
 o volunteer\ncall SOND at (701)746-0331 or email info@specialolympicsnd.or
 g
DTSTART;TZID=America/Chicago:20170916T000000
DTEND;TZID=America/Chicago:20170917T235900
LOCATION:South Middle School - Grand Forks\, ND
SUMMARY:State Soccer & Bocce Tournament
END:VEVENT
END:VCALENDAR
