BEGIN:VCALENDAR
VERSION:2.0
PRODID:-//specialolympicsnd.org//NONSGML kigkonsult.se iCalcreator 2.30.10/
 /
CALSCALE:GREGORIAN
METHOD:PUBLISH
UID:80a62d47-8df1-4113-af96-be33ef31d38d
X-WR-CALDESC:Pancake breakfast for the public. Fundraiser for the local Spe
 cial Olympics program.\nMore details coming soon...
X-WR-RELCALID:f2ae08e1e93a6efe3360b9d8e7301e7d
X-WR-TIMEZONE:America/Chicago
BEGIN:VTIMEZONE
TZID:America/Chicago
BEGIN:STANDARD
TZNAME:CST
DTSTART:20161106T020000
TZOFFSETFROM:-0500
TZOFFSETTO:-0600
RDATE:20171105T020000
RDATE:20181104T020000
END:STANDARD
BEGIN:DAYLIGHT
TZNAME:CDT
DTSTART:20170312T020000
TZOFFSETFROM:-0600
TZOFFSETTO:-0500
RDATE:20180311T020000
RDATE:20190310T020000
END:DAYLIGHT
END:VTIMEZONE
BEGIN:VEVENT
UID:872136b5-68f5-4cec-80fc-11153a5f51a6
DTSTAMP:20260423T031246Z
DESCRIPTION:Pancake breakfast for the public. Fundraiser for the local Spec
 ial Olympics program.\nMore details coming soon...
DTSTART;TZID=America/Chicago:20170910T000000
DTEND;TZID=America/Chicago:20170910T235900
LOCATION:Moose Lodge\, Minot
SUMMARY:Pancake Breakfast - Minot
END:VEVENT
END:VCALENDAR
