BEGIN:VCALENDAR
VERSION:2.0
PRODID:-//specialolympicsnd.org//NONSGML kigkonsult.se iCalcreator 2.30.10/
 /
CALSCALE:GREGORIAN
METHOD:PUBLISH
UID:0f65ee06-8d6e-4184-831b-17143fea485b
X-WR-CALDESC:Details coming soon...
X-WR-RELCALID:e713539e49ef8b538408c3d4f0a65a4a
X-WR-TIMEZONE:America/Chicago
BEGIN:VTIMEZONE
TZID:America/Chicago
BEGIN:STANDARD
TZNAME:CST
DTSTART:20161106T020000
TZOFFSETFROM:-0500
TZOFFSETTO:-0600
RDATE:20171105T020000
RDATE:20181104T020000
END:STANDARD
BEGIN:DAYLIGHT
TZNAME:CDT
DTSTART:20170312T020000
TZOFFSETFROM:-0600
TZOFFSETTO:-0500
RDATE:20180311T020000
END:DAYLIGHT
END:VTIMEZONE
BEGIN:VEVENT
UID:898dc1b2-c36d-49fc-af7b-ce38b030fdcb
DTSTAMP:20260423T031449Z
DESCRIPTION:Details coming soon...
DTSTART;TZID=America/Chicago:20170827T000000
DTEND;TZID=America/Chicago:20170827T235900
LOCATION:Cottonwood Park\, Bismarck\, ND
SUMMARY:District IV Soccer & Bocce Tournament
END:VEVENT
END:VCALENDAR
