BEGIN:VCALENDAR
VERSION:2.0
PRODID:-//specialolympicsnd.org//NONSGML kigkonsult.se iCalcreator 2.30.10/
 /
CALSCALE:GREGORIAN
METHOD:PUBLISH
UID:94092970-5b4a-4fa0-8683-d372ea3ab8b3
X-WR-CALDESC:Details coming soon...
X-WR-RELCALID:0fdf4f9e58482d159e32741a0632032e
X-WR-TIMEZONE:America/Chicago
BEGIN:VTIMEZONE
TZID:America/Chicago
BEGIN:STANDARD
TZNAME:CST
DTSTART:20161106T020000
TZOFFSETFROM:-0500
TZOFFSETTO:-0600
RDATE:20171105T020000
RDATE:20181104T020000
END:STANDARD
BEGIN:DAYLIGHT
TZNAME:CDT
DTSTART:20170312T020000
TZOFFSETFROM:-0600
TZOFFSETTO:-0500
RDATE:20180311T020000
END:DAYLIGHT
END:VTIMEZONE
BEGIN:VEVENT
UID:54b154a3-0d4b-4d80-9ae6-bb6404dc6ee6
DTSTAMP:20260423T031449Z
DESCRIPTION:Details coming soon...
DTSTART;TZID=America/Chicago:20170827T000000
DTEND;TZID=America/Chicago:20170827T235900
LOCATION:Scheels Soccer Complex\, West Fargo\, ND
SUMMARY:District III Soccer & Bocce Tournament
END:VEVENT
END:VCALENDAR
