BEGIN:VCALENDAR
VERSION:2.0
PRODID:-//specialolympicsnd.org//NONSGML kigkonsult.se iCalcreator 2.30.10/
 /
CALSCALE:GREGORIAN
METHOD:PUBLISH
UID:e8ec38ae-8c00-4b1c-9d15-58f8f52cca6b
X-WR-CALDESC:More than 400 athletes and Unified partners comprising 28 team
 s from throughout the United States and Canada will be competing in the sp
 ort of softball in Special Olympics traditional team and Unified Sports (p
 eople with and without intellectual disabilities playing as teammates) for
 mats. \nThe four-day event includes additional special events for particip
 ants including an Opening Ceremony & Parade of Athletes\, Healthy Athlete 
 screenings\, and a Victory Dance. \n\nTo learn more about the Special Olym
 pics North America Softball Championship and volunteer opportunities\, cli
 ck the links below.
X-WR-RELCALID:fc7faa70fd7378bbdb0ce04150e9ef2e
X-WR-TIMEZONE:America/Chicago
BEGIN:VTIMEZONE
TZID:America/Chicago
BEGIN:STANDARD
TZNAME:CST
DTSTART:20161106T020000
TZOFFSETFROM:-0500
TZOFFSETTO:-0600
RDATE:20171105T020000
RDATE:20181104T020000
END:STANDARD
BEGIN:DAYLIGHT
TZNAME:CDT
DTSTART:20170312T020000
TZOFFSETFROM:-0600
TZOFFSETTO:-0500
RDATE:20180311T020000
END:DAYLIGHT
END:VTIMEZONE
BEGIN:VEVENT
UID:f7bd8962-56d4-47ce-bf0c-26f3ea2fcd0f
DTSTAMP:20260423T031245Z
DESCRIPTION:More than 400 athletes and Unified partners comprising 28 teams
  from throughout the United States and Canada will be competing in the spo
 rt of softball in Special Olympics traditional team and Unified Sports (pe
 ople with and without intellectual disabilities playing as teammates) form
 ats. \nThe four-day event includes additional special events for participa
 nts including an Opening Ceremony & Parade of Athletes\, Healthy Athlete s
 creenings\, and a Victory Dance. \n\nTo learn more about the Special Olymp
 ics North America Softball Championship and volunteer opportunities\, clic
 k the links below.
DTSTART;TZID=America/Chicago:20170817T000000
DTEND;TZID=America/Chicago:20170820T235900
LOCATION:Clem Kelley Softball Complex\, Bismarck\, ND
SUMMARY:SONA Softball Championship
END:VEVENT
END:VCALENDAR
