BEGIN:VCALENDAR
VERSION:2.0
PRODID:-//specialolympicsnd.org//NONSGML kigkonsult.se iCalcreator 2.30.10/
 /
CALSCALE:GREGORIAN
METHOD:PUBLISH
UID:cb965e1c-1b93-4442-876b-cc1e93669558
X-WR-CALDESC:
X-WR-RELCALID:b4c7e85278292bb86c2ac7205f20bc26
X-WR-TIMEZONE:America/Chicago
BEGIN:VTIMEZONE
TZID:America/Chicago
BEGIN:STANDARD
TZNAME:CST
DTSTART:20161106T020000
TZOFFSETFROM:-0500
TZOFFSETTO:-0600
RDATE:20171105T020000
RDATE:20181104T020000
END:STANDARD
BEGIN:DAYLIGHT
TZNAME:CDT
DTSTART:20170312T020000
TZOFFSETFROM:-0600
TZOFFSETTO:-0500
RDATE:20180311T020000
END:DAYLIGHT
END:VTIMEZONE
BEGIN:VEVENT
UID:a2d59f7a-5fc9-4ceb-ac07-bce6fde707db
DTSTAMP:20260423T031438Z
DESCRIPTION:
DTSTART;TZID=America/Chicago:20170819T110000
DTEND;TZID=America/Chicago:20170819T150000
LOCATION:Culver's\, Grand Forks
SUMMARY:Car Wash - Grand Forks
END:VEVENT
END:VCALENDAR
