BEGIN:VCALENDAR
VERSION:2.0
PRODID:-//specialolympicsnd.org//NONSGML kigkonsult.se iCalcreator 2.30.10/
 /
CALSCALE:GREGORIAN
METHOD:PUBLISH
UID:c1ad2dc5-7d98-4128-a1ed-65627438b831
X-WR-CALDESC:
X-WR-RELCALID:dce0d15f455370167354c1407ea31849
X-WR-TIMEZONE:America/Chicago
BEGIN:VTIMEZONE
TZID:America/Chicago
BEGIN:STANDARD
TZNAME:CST
DTSTART:20161106T020000
TZOFFSETFROM:-0500
TZOFFSETTO:-0600
RDATE:20171105T020000
RDATE:20181104T020000
END:STANDARD
BEGIN:DAYLIGHT
TZNAME:CDT
DTSTART:20170312T020000
TZOFFSETFROM:-0600
TZOFFSETTO:-0500
RDATE:20180311T020000
END:DAYLIGHT
END:VTIMEZONE
BEGIN:VEVENT
UID:73809e1c-4cd0-45e5-95c5-d9ad8496f20e
DTSTAMP:20260423T031343Z
DESCRIPTION:
DTSTART;TZID=America/Chicago:20170806T000000
DTEND;TZID=America/Chicago:20170806T235900
LOCATION:Dickinson\, ND
SUMMARY:Dickinson Area Appreciation Banquet
END:VEVENT
END:VCALENDAR
