BEGIN:VCALENDAR
VERSION:2.0
PRODID:-//specialolympicsnd.org//NONSGML kigkonsult.se iCalcreator 2.30.10/
 /
CALSCALE:GREGORIAN
METHOD:PUBLISH
UID:56df6b9c-2ab4-43c9-b11d-f748294e5b1c
X-WR-CALDESC:
X-WR-RELCALID:ed8fd26afc57ba5d9c17dc1293903a7a
X-WR-TIMEZONE:America/Chicago
BEGIN:VTIMEZONE
TZID:America/Chicago
BEGIN:STANDARD
TZNAME:CST
DTSTART:20161106T020000
TZOFFSETFROM:-0500
TZOFFSETTO:-0600
RDATE:20171105T020000
RDATE:20181104T020000
END:STANDARD
BEGIN:DAYLIGHT
TZNAME:CDT
DTSTART:20170312T020000
TZOFFSETFROM:-0600
TZOFFSETTO:-0500
RDATE:20180311T020000
END:DAYLIGHT
END:VTIMEZONE
BEGIN:VEVENT
UID:79155407-99cd-49f3-8fad-c71bae2d9817
DTSTAMP:20260423T031438Z
DESCRIPTION:
DTSTART;TZID=America/Chicago:20170722T110000
DTEND;TZID=America/Chicago:20170722T150000
LOCATION:Culver's\, Grand Forks
SUMMARY:Car Wash - Grand Forks
END:VEVENT
END:VCALENDAR
