BEGIN:VCALENDAR
VERSION:2.0
PRODID:-//specialolympicsnd.org//NONSGML kigkonsult.se iCalcreator 2.30.10/
 /
CALSCALE:GREGORIAN
METHOD:PUBLISH
UID:41257b79-67bf-4d26-9cec-7a68ba5e404b
X-WR-CALDESC:Special Olympics Grand Forks will be hosting an appreciation p
 icnic in Lincoln Park (Shelter #3) starting at 5:30 and going until 8:30 p
 m. We invite all athletes\, family\, staff\, coaches and volunteers! SOGF 
 will provide food\, drink and snacks along with games\, relay races\, bean
  bag toss and more! Please come and be appreciated join the fun.\nNote: To
  help us with the food count\, please let us know if you plan to come.
X-WR-RELCALID:ea92c15a105abda2193a3b8f8d71cedf
X-WR-TIMEZONE:America/Chicago
BEGIN:VTIMEZONE
TZID:America/Chicago
BEGIN:STANDARD
TZNAME:CST
DTSTART:20161106T020000
TZOFFSETFROM:-0500
TZOFFSETTO:-0600
RDATE:20171105T020000
RDATE:20181104T020000
END:STANDARD
BEGIN:DAYLIGHT
TZNAME:CDT
DTSTART:20170312T020000
TZOFFSETFROM:-0600
TZOFFSETTO:-0500
RDATE:20180311T020000
END:DAYLIGHT
END:VTIMEZONE
BEGIN:VEVENT
UID:fb7709a1-3edb-4331-9655-c38623ccf80a
DTSTAMP:20260423T031357Z
DESCRIPTION:Special Olympics Grand Forks will be hosting an appreciation pi
 cnic in Lincoln Park (Shelter #3) starting at 5:30 and going until 8:30 pm
 . We invite all athletes\, family\, staff\, coaches and volunteers! SOGF w
 ill provide food\, drink and snacks along with games\, relay races\, bean 
 bag toss and more! Please come and be appreciated join the fun.\nNote: To 
 help us with the food count\, please let us know if you plan to come.
DTSTART;TZID=America/Chicago:20170720T000000
DTEND;TZID=America/Chicago:20170720T235900
LOCATION:Lincoln Park\, Grand Forks
SUMMARY:Grand Forks Area Picnic
END:VEVENT
END:VCALENDAR
