BEGIN:VCALENDAR
VERSION:2.0
PRODID:-//specialolympicsnd.org//NONSGML kigkonsult.se iCalcreator 2.30.10/
 /
CALSCALE:GREGORIAN
METHOD:PUBLISH
UID:a8d4fd07-602e-47e5-953f-ac7115d67537
X-WR-CALDESC:Come out and have a great time for a great cause at the annual
  Special Olympics North Dakota Golf Classic tournaments.\n(Registration Fe
 e $110 - Entry Deadline July 3rd)\n\n-Registration begins at 11:30 a.m.\n-
 Shot Gun Start at 12:30 p.m.\n-Registrations includes: Green fees\, golf c
 art rental\, commemorative souvenir door prizes\, and food\n-Contests incl
 ude: Super Shot\, Longest Putt\, Longest Drive\, and Closest to Pin\n*Note
 : In case of inclement weather\, the Special Olympics North Dakota golf to
 urnament will be cancelled. Fees are considered a donation to Special Olym
 pics North Dakota and will not be reimbursed
X-WR-RELCALID:929082d2c7a4f2f5dac599b48bca8eef
X-WR-TIMEZONE:America/Chicago
BEGIN:VTIMEZONE
TZID:America/Chicago
BEGIN:STANDARD
TZNAME:CST
DTSTART:20161106T020000
TZOFFSETFROM:-0500
TZOFFSETTO:-0600
RDATE:20171105T020000
RDATE:20181104T020000
END:STANDARD
BEGIN:DAYLIGHT
TZNAME:CDT
DTSTART:20170312T020000
TZOFFSETFROM:-0600
TZOFFSETTO:-0500
RDATE:20180311T020000
END:DAYLIGHT
END:VTIMEZONE
BEGIN:VEVENT
UID:6d28005a-2d58-4576-bc9c-86ac1a5152d0
DTSTAMP:20260423T031210Z
DESCRIPTION:Come out and have a great time for a great cause at the annual 
 Special Olympics North Dakota Golf Classic tournaments.\n(Registration Fee
  $110 - Entry Deadline July 3rd)\n\n-Registration begins at 11:30 a.m.\n-S
 hot Gun Start at 12:30 p.m.\n-Registrations includes: Green fees\, golf ca
 rt rental\, commemorative souvenir door prizes\, and food\n-Contests inclu
 de: Super Shot\, Longest Putt\, Longest Drive\, and Closest to Pin\n*Note:
  In case of inclement weather\, the Special Olympics North Dakota golf tou
 rnament will be cancelled. Fees are considered a donation to Special Olymp
 ics North Dakota and will not be reimbursed
DTSTART;TZID=America/Chicago:20170717T123000
DTEND;TZID=America/Chicago:20170717T160000
LOCATION:Souris Valley Golf Course - Minot\, ND
SUMMARY:Minot Golf Classic
END:VEVENT
END:VCALENDAR
