BEGIN:VCALENDAR
VERSION:2.0
PRODID:-//specialolympicsnd.org//NONSGML kigkonsult.se iCalcreator 2.30.10/
 /
CALSCALE:GREGORIAN
METHOD:PUBLISH
UID:10021214-a8da-48e3-885e-2ab7e2996216
X-WR-CALDESC:
X-WR-RELCALID:505e450a166567db36753ab1495bfca1
X-WR-TIMEZONE:America/Chicago
BEGIN:VTIMEZONE
TZID:America/Chicago
BEGIN:STANDARD
TZNAME:CST
DTSTART:20161106T020000
TZOFFSETFROM:-0500
TZOFFSETTO:-0600
RDATE:20171105T020000
RDATE:20181104T020000
END:STANDARD
BEGIN:DAYLIGHT
TZNAME:CDT
DTSTART:20170312T020000
TZOFFSETFROM:-0600
TZOFFSETTO:-0500
RDATE:20180311T020000
END:DAYLIGHT
END:VTIMEZONE
BEGIN:VEVENT
UID:9aef075c-9012-4f2f-8258-e63a4d2b29f2
DTSTAMP:20260423T031146Z
DESCRIPTION:
DTSTART;TZID=America/Chicago:20170704T000000
DTEND;TZID=America/Chicago:20170704T235900
LOCATION:
SUMMARY:SOND Office Closed
END:VEVENT
END:VCALENDAR
