BEGIN:VCALENDAR
VERSION:2.0
PRODID:-//specialolympicsnd.org//NONSGML kigkonsult.se iCalcreator 2.30.10/
 /
CALSCALE:GREGORIAN
METHOD:PUBLISH
UID:aedeb2e6-8f43-4842-94a1-04de635b0f19
X-WR-CALDESC:Come out and have a great time for a great cause at the annual
  Special Olympics North Dakota Golf Classic tournaments.\n(Registration Fe
 e: $125 - Entry Deadline: June 11th)\n\n-Registration begins at 11:30 a.m.
 \n-Shot Gun Start at 12:30 p.m.\n-Registrations includes: Green fees\, gol
 f cart rental\, commemorative souvenir door prizes\, and food\n-Contests i
 nclude: Super Shot\, Longest Putt\, Longest Drive\, and Closest to Pin\n*N
 ote: In case of inclement weather\, the Special Olympics North Dakota golf
  tournament will be cancelled. Fees are considered a donation to Special O
 lympics North Dakota and will not be reimbursed
X-WR-RELCALID:75dc07d8d8f39fbdc72cd26d9f1ce22f
X-WR-TIMEZONE:America/Chicago
BEGIN:VTIMEZONE
TZID:America/Chicago
BEGIN:STANDARD
TZNAME:CST
DTSTART:20161106T020000
TZOFFSETFROM:-0500
TZOFFSETTO:-0600
RDATE:20171105T020000
RDATE:20181104T020000
END:STANDARD
BEGIN:DAYLIGHT
TZNAME:CDT
DTSTART:20170312T020000
TZOFFSETFROM:-0600
TZOFFSETTO:-0500
RDATE:20180311T020000
END:DAYLIGHT
END:VTIMEZONE
BEGIN:VEVENT
UID:1c9f1d64-5c1d-450a-9d50-a3028854cd19
DTSTAMP:20260423T031146Z
DESCRIPTION:Come out and have a great time for a great cause at the annual 
 Special Olympics North Dakota Golf Classic tournaments.\n(Registration Fee
 : $125 - Entry Deadline: June 11th)\n\n-Registration begins at 11:30 a.m.
 \n-Shot Gun Start at 12:30 p.m.\n-Registrations includes: Green fees\, gol
 f cart rental\, commemorative souvenir door prizes\, and food\n-Contests i
 nclude: Super Shot\, Longest Putt\, Longest Drive\, and Closest to Pin\n*N
 ote: In case of inclement weather\, the Special Olympics North Dakota golf
  tournament will be cancelled. Fees are considered a donation to Special O
 lympics North Dakota and will not be reimbursed
DTSTART;TZID=America/Chicago:20170627T123000
DTEND;TZID=America/Chicago:20170627T160000
LOCATION:Oxbow Country Club - Oxbow\, ND
SUMMARY:Fargo Golf Classic
END:VEVENT
END:VCALENDAR
