BEGIN:VCALENDAR
VERSION:2.0
PRODID:-//specialolympicsnd.org//NONSGML kigkonsult.se iCalcreator 2.30.10/
 /
CALSCALE:GREGORIAN
METHOD:PUBLISH
UID:ceb38c55-8913-42b9-9260-45432e2b28f3
X-WR-CALDESC:
X-WR-RELCALID:5f57b1cec26665f41e4a4af6b43d1b0d
X-WR-TIMEZONE:America/Chicago
BEGIN:VTIMEZONE
TZID:America/Chicago
BEGIN:STANDARD
TZNAME:CST
DTSTART:20161106T020000
TZOFFSETFROM:-0500
TZOFFSETTO:-0600
RDATE:20171105T020000
RDATE:20181104T020000
END:STANDARD
BEGIN:DAYLIGHT
TZNAME:CDT
DTSTART:20170312T020000
TZOFFSETFROM:-0600
TZOFFSETTO:-0500
RDATE:20180311T020000
END:DAYLIGHT
END:VTIMEZONE
BEGIN:VEVENT
UID:d4b0591b-1fa6-4e54-a338-1616d531698e
DTSTAMP:20260423T031438Z
DESCRIPTION:
DTSTART;TZID=America/Chicago:20170624T110000
DTEND;TZID=America/Chicago:20170624T150000
LOCATION:Culver's\, Grand Forks
SUMMARY:Car Wash - Grand Forks
END:VEVENT
END:VCALENDAR
