BEGIN:VCALENDAR
VERSION:2.0
PRODID:-//specialolympicsnd.org//NONSGML kigkonsult.se iCalcreator 2.30.10/
 /
CALSCALE:GREGORIAN
METHOD:PUBLISH
UID:a06ff94e-70da-4746-aae5-d1f5a0850b1b
X-WR-CALDESC:Come out and have a great time for a great cause at the annual
  Special Olympics North Dakota Golf Classic tournaments.\n(Registration Fe
 e: $125 - Entry Deadline: June 9th)\n\n-Registration begins at 11:30 a.m.
 \n-Shot Gun Start at 12:30 p.m.\n-Registrations includes: Green fees\, gol
 f cart rental\, commemorative souvenir door prizes\, and food\n-Contests i
 nclude: Super Shot\, Longest Putt\, Longest Drive\, and Closest to Pin\n*N
 ote: In case of inclement weather\, the Special Olympics North Dakota golf
  tournament will be cancelled. Fees are considered a donation to Special O
 lympics North Dakota and will not be reimbursed
X-WR-RELCALID:c2f50433ffe5ae452d0fa419e56f1b79
X-WR-TIMEZONE:America/Chicago
BEGIN:VTIMEZONE
TZID:America/Chicago
BEGIN:STANDARD
TZNAME:CST
DTSTART:20161106T020000
TZOFFSETFROM:-0500
TZOFFSETTO:-0600
RDATE:20171105T020000
RDATE:20181104T020000
END:STANDARD
BEGIN:DAYLIGHT
TZNAME:CDT
DTSTART:20170312T020000
TZOFFSETFROM:-0600
TZOFFSETTO:-0500
RDATE:20180311T020000
END:DAYLIGHT
END:VTIMEZONE
BEGIN:VEVENT
UID:ec24a452-cccb-4008-8477-92c65e3c31fb
DTSTAMP:20260423T031341Z
DESCRIPTION:Come out and have a great time for a great cause at the annual 
 Special Olympics North Dakota Golf Classic tournaments.\n(Registration Fee
 : $125 - Entry Deadline: June 9th)\n\n-Registration begins at 11:30 a.m.\n
 -Shot Gun Start at 12:30 p.m.\n-Registrations includes: Green fees\, golf 
 cart rental\, commemorative souvenir door prizes\, and food\n-Contests inc
 lude: Super Shot\, Longest Putt\, Longest Drive\, and Closest to Pin\n*Not
 e: In case of inclement weather\, the Special Olympics North Dakota golf t
 ournament will be cancelled. Fees are considered a donation to Special Oly
 mpics North Dakota and will not be reimbursed
DTSTART;TZID=America/Chicago:20170619T123000
DTEND;TZID=America/Chicago:20170619T160000
LOCATION:Grand Forks Country Club - Grand Forks\, ND
SUMMARY:Grand Forks Golf Classic
END:VEVENT
END:VCALENDAR
