BEGIN:VCALENDAR
VERSION:2.0
PRODID:-//specialolympicsnd.org//NONSGML kigkonsult.se iCalcreator 2.30.10/
 /
CALSCALE:GREGORIAN
METHOD:PUBLISH
UID:e6b7cbe3-107c-4cee-988f-04ebfa2fc70d
X-WR-CALDESC:Annual 5K or 1-Mile Run/Walk\n\nPre-register for $20 at Minot 
 Nutrition Addiction - 815 N. Broadway next to Dakota Chappy\, near MSU\, o
 r at The Minot Family YMCA - 3515 16th St. SW\nRace Day Registration at 9:
 00 - 9:45 am for $25\nRegistration must be turned in by June 3rd to guaran
 tee a t-shirt.
X-WR-RELCALID:7adf631c134a765ea1d2532b7e329fa0
X-WR-TIMEZONE:America/Chicago
BEGIN:VTIMEZONE
TZID:America/Chicago
BEGIN:STANDARD
TZNAME:CST
DTSTART:20161106T020000
TZOFFSETFROM:-0500
TZOFFSETTO:-0600
RDATE:20171105T020000
RDATE:20181104T020000
END:STANDARD
BEGIN:DAYLIGHT
TZNAME:CDT
DTSTART:20170312T020000
TZOFFSETFROM:-0600
TZOFFSETTO:-0500
RDATE:20180311T020000
END:DAYLIGHT
END:VTIMEZONE
BEGIN:VEVENT
UID:c8d1522d-dded-4d21-8722-7ba743224c55
DTSTAMP:20260423T031214Z
DESCRIPTION:Annual 5K or 1-Mile Run/Walk\n\nPre-register for $20 at Minot N
 utrition Addiction - 815 N. Broadway next to Dakota Chappy\, near MSU\, or
  at The Minot Family YMCA - 3515 16th St. SW\nRace Day Registration at 9:0
 0 - 9:45 am for $25\nRegistration must be turned in by June 3rd to guarant
 ee a t-shirt.
DTSTART;TZID=America/Chicago:20170617T100000
DTEND;TZID=America/Chicago:20170617T120000
LOCATION:Roosevelt Park Zoo\, 1219 E Burdick Expressway\, Minot
SUMMARY:5K Run - Minot
END:VEVENT
END:VCALENDAR
