BEGIN:VCALENDAR
VERSION:2.0
PRODID:-//specialolympicsnd.org//NONSGML kigkonsult.se iCalcreator 2.30.10/
 /
CALSCALE:GREGORIAN
METHOD:PUBLISH
UID:9032af31-2ecf-4121-93c8-4a115628f58d
X-WR-CALDESC:For the 20th consecutive year\, the city of Fargo will serve a
 s host of the Special Olympics North Dakota (SOND) State Summer Games.  \n
 \nParticipants will compete in the sports of Athletics (Track & Field)\, S
 wimming\, Bocce\, Powerlifting\, and Volleyball.  \n\nAdditional Special E
 vents for participants include an Opening Ceremony & Parade of	Athletes\, C
 ommunity Celebration\, Healthy Athlete screenings\, Olympic Town activitie
 s\, and athlete Victory Dance.
X-WR-RELCALID:11e7f10dc2d6601da23922f80cf36d4b
X-WR-TIMEZONE:America/Chicago
BEGIN:VTIMEZONE
TZID:America/Chicago
BEGIN:STANDARD
TZNAME:CST
DTSTART:20161106T020000
TZOFFSETFROM:-0500
TZOFFSETTO:-0600
RDATE:20171105T020000
RDATE:20181104T020000
END:STANDARD
BEGIN:DAYLIGHT
TZNAME:CDT
DTSTART:20170312T020000
TZOFFSETFROM:-0600
TZOFFSETTO:-0500
RDATE:20180311T020000
END:DAYLIGHT
END:VTIMEZONE
BEGIN:VEVENT
UID:d45f9620-743f-4eaa-abc7-e499d9eb165c
DTSTAMP:20260423T031209Z
DESCRIPTION:For the 20th consecutive year\, the city of Fargo will serve as
  host of the Special Olympics North Dakota (SOND) State Summer Games.  \n
 \nParticipants will compete in the sports of Athletics (Track & Field)\, S
 wimming\, Bocce\, Powerlifting\, and Volleyball.  \n\nAdditional Special E
 vents for participants include an Opening Ceremony & Parade of	Athletes\, C
 ommunity Celebration\, Healthy Athlete screenings\, Olympic Town activitie
 s\, and athlete Victory Dance.
DTSTART;TZID=America/Chicago:20170608T000000
DTEND;TZID=America/Chicago:20170610T235900
LOCATION:Davies/South High Schools\, Fargo\, ND
SUMMARY:State Summer Games
END:VEVENT
END:VCALENDAR
