BEGIN:VCALENDAR
VERSION:2.0
PRODID:-//specialolympicsnd.org//NONSGML kigkonsult.se iCalcreator 2.30.10/
 /
CALSCALE:GREGORIAN
METHOD:PUBLISH
UID:7b07234a-90a7-4837-a5de-be147f10efc4
X-WR-CALDESC:The Gold Medal Entrée promotion will take place from June 4-8\
 , 2017 at Fargo-area restaurants. Participating restaurants include: Labby
 's Grill & Bar\, Golf Addiction\, and Smiling Moose Rocky Mountain Deli. 2
 5% of selected purchases will be donated to Special Olympics North Dakota 
 to benefit athletes participating in the 2017 State Summer Games.
X-WR-RELCALID:6754360e8b3400536ff0a64d0c5fb42e
X-WR-TIMEZONE:America/Chicago
BEGIN:VTIMEZONE
TZID:America/Chicago
BEGIN:STANDARD
TZNAME:CST
DTSTART:20161106T020000
TZOFFSETFROM:-0500
TZOFFSETTO:-0600
RDATE:20171105T020000
RDATE:20181104T020000
END:STANDARD
BEGIN:DAYLIGHT
TZNAME:CDT
DTSTART:20170312T020000
TZOFFSETFROM:-0600
TZOFFSETTO:-0500
RDATE:20180311T020000
END:DAYLIGHT
END:VTIMEZONE
BEGIN:VEVENT
UID:faef107c-a30a-47b8-8b93-cc0d3b68d69b
DTSTAMP:20260423T031307Z
DESCRIPTION:The Gold Medal Entrée promotion will take place from June 4-8\,
  2017 at Fargo-area restaurants. Participating restaurants include: Labby'
 s Grill & Bar\, Golf Addiction\, and Smiling Moose Rocky Mountain Deli. 25
 % of selected purchases will be donated to Special Olympics North Dakota t
 o benefit athletes participating in the 2017 State Summer Games.
DTSTART;TZID=America/Chicago:20170604T000000
DTEND;TZID=America/Chicago:20170608T235900
LOCATION:Fargo\, ND
SUMMARY:Gold Medal Entrée
END:VEVENT
END:VCALENDAR
