BEGIN:VCALENDAR
VERSION:2.0
PRODID:-//specialolympicsnd.org//NONSGML kigkonsult.se iCalcreator 2.30.10/
 /
CALSCALE:GREGORIAN
METHOD:PUBLISH
UID:8fbca431-3fb4-4cae-8e70-f7865e8ffb77
X-WR-CALDESC:The Special Olympics North America (SONA) Softball Championshi
 ps will be held in Bismarck this August. SOND has been allocated a traditi
 onal (no partners) team to participate in this tournament and will be hold
 ing a statewide tryout on June 3rd at Clem Kelley Diamond 1 located in Bis
 marck\, ND\n\nRegistration will begin at 10 a.m.\nSoftball drills will beg
 in at 10:30 a.m.\nConclusion of Tryouts at 3:00 p.m.\n\nClick the Info She
 et below for more details!
X-WR-RELCALID:c49e28bafe158d36dd62709630adf531
X-WR-TIMEZONE:America/Chicago
BEGIN:VTIMEZONE
TZID:America/Chicago
BEGIN:STANDARD
TZNAME:CST
DTSTART:20161106T020000
TZOFFSETFROM:-0500
TZOFFSETTO:-0600
RDATE:20171105T020000
RDATE:20181104T020000
END:STANDARD
BEGIN:DAYLIGHT
TZNAME:CDT
DTSTART:20170312T020000
TZOFFSETFROM:-0600
TZOFFSETTO:-0500
RDATE:20180311T020000
END:DAYLIGHT
END:VTIMEZONE
BEGIN:VEVENT
UID:9b3ef746-a49a-495d-aa20-8339540b5b06
DTSTAMP:20260423T031316Z
DESCRIPTION:The Special Olympics North America (SONA) Softball Championship
 s will be held in Bismarck this August. SOND has been allocated a traditio
 nal (no partners) team to participate in this tournament and will be holdi
 ng a statewide tryout on June 3rd at Clem Kelley Diamond 1 located in Bism
 arck\, ND\n\nRegistration will begin at 10 a.m.\nSoftball drills will begi
 n at 10:30 a.m.\nConclusion of Tryouts at 3:00 p.m.\n\nClick the Info Shee
 t below for more details!
DTSTART;TZID=America/Chicago:20170603T100000
DTEND;TZID=America/Chicago:20170603T150000
LOCATION:Clem Kelley (Diamond 1)\, Bismarck\, ND
SUMMARY:SONA Softball Championship Tryouts
END:VEVENT
END:VCALENDAR
