BEGIN:VCALENDAR
VERSION:2.0
PRODID:-//specialolympicsnd.org//NONSGML kigkonsult.se iCalcreator 2.30.10/
 /
CALSCALE:GREGORIAN
METHOD:PUBLISH
UID:f4eaa7da-45b9-4d4b-a7ad-0c0fac46a393
X-WR-CALDESC:Area 8 Special Olympics will be holding their 29th Annual 4-pe
 rson golf scramble on Friday\, June 2\, 2017 at the Country Club Golf Cour
 se in Valley City. The purpose of this golf benefit is to help support Spe
 cial Olympics athletes to participate in athletic events throughout the ye
 ar\, as well as participate in numerous state\, national\, and worldwide e
 vents.\n\nThe 2017 benefit tournament will be  sponsored by Dacotah Bank o
 f Valley City.\n\nTeams will be flighted after the first 9 holes. There wi
 ll be two flights and 1st and 2nd place will be awarded in both flights.\n
 \nFor more information and to register\, click the form below.
X-WR-RELCALID:34e403312a3ae827169f102e60da0452
X-WR-TIMEZONE:America/Chicago
BEGIN:VTIMEZONE
TZID:America/Chicago
BEGIN:STANDARD
TZNAME:CST
DTSTART:20161106T020000
TZOFFSETFROM:-0500
TZOFFSETTO:-0600
RDATE:20171105T020000
RDATE:20181104T020000
END:STANDARD
BEGIN:DAYLIGHT
TZNAME:CDT
DTSTART:20170312T020000
TZOFFSETFROM:-0600
TZOFFSETTO:-0500
RDATE:20180311T020000
END:DAYLIGHT
END:VTIMEZONE
BEGIN:VEVENT
UID:b7874092-2a77-4563-b662-105a0ece2cdb
DTSTAMP:20260423T031519Z
DESCRIPTION:Area 8 Special Olympics will be holding their 29th Annual 4-per
 son golf scramble on Friday\, June 2\, 2017 at the Country Club Golf Cours
 e in Valley City. The purpose of this golf benefit is to help support Spec
 ial Olympics athletes to participate in athletic events throughout the yea
 r\, as well as participate in numerous state\, national\, and worldwide ev
 ents.\n\nThe 2017 benefit tournament will be  sponsored by Dacotah Bank of
  Valley City.\n\nTeams will be flighted after the first 9 holes. There wil
 l be two flights and 1st and 2nd place will be awarded in both flights.\n
 \nFor more information and to register\, click the form below.
DTSTART;TZID=America/Chicago:20170602T090000
DTEND;TZID=America/Chicago:20170603T140000
LOCATION:Valley City\, ND
SUMMARY:Benefit Golf Tournament - Valley City
END:VEVENT
END:VCALENDAR
