BEGIN:VCALENDAR
VERSION:2.0
PRODID:-//specialolympicsnd.org//NONSGML kigkonsult.se iCalcreator 2.30.10/
 /
CALSCALE:GREGORIAN
METHOD:PUBLISH
UID:f9cb67c9-61d6-46d6-a435-a7b56eddee2a
X-WR-CALDESC:The Special Olympics North Dakota State Office will be closed 
 on Monday\, May 29th\, 2017 in observance of Memorial Day. We will reopen 
 on May 30th at 8:00 a.m.
X-WR-RELCALID:d9ce98c950b6387c31c7f290308ee934
X-WR-TIMEZONE:America/Chicago
BEGIN:VTIMEZONE
TZID:America/Chicago
BEGIN:STANDARD
TZNAME:CST
DTSTART:20161106T020000
TZOFFSETFROM:-0500
TZOFFSETTO:-0600
RDATE:20171105T020000
RDATE:20181104T020000
END:STANDARD
BEGIN:DAYLIGHT
TZNAME:CDT
DTSTART:20170312T020000
TZOFFSETFROM:-0600
TZOFFSETTO:-0500
RDATE:20180311T020000
END:DAYLIGHT
END:VTIMEZONE
BEGIN:VEVENT
UID:cc2cd8f0-0acf-4873-bc47-a925bcc8d32f
DTSTAMP:20260423T031209Z
DESCRIPTION:The Special Olympics North Dakota State Office will be closed o
 n Monday\, May 29th\, 2017 in observance of Memorial Day. We will reopen o
 n May 30th at 8:00 a.m.
DTSTART;TZID=America/Chicago:20170529T000000
DTEND;TZID=America/Chicago:20170529T235900
LOCATION:
SUMMARY:SOND State Office Closed
END:VEVENT
END:VCALENDAR
