BEGIN:VCALENDAR
VERSION:2.0
PRODID:-//specialolympicsnd.org//NONSGML kigkonsult.se iCalcreator 2.30.10/
 /
CALSCALE:GREGORIAN
METHOD:PUBLISH
UID:024fcad5-da5d-462f-8849-345bfd8339ac
X-WR-CALDESC:Sports include: Athletics
X-WR-RELCALID:b85735c26f147a6b9d1a8e02211cb0dd
X-WR-TIMEZONE:America/Chicago
BEGIN:VTIMEZONE
TZID:America/Chicago
BEGIN:STANDARD
TZNAME:CST
DTSTART:20161106T020000
TZOFFSETFROM:-0500
TZOFFSETTO:-0600
RDATE:20171105T020000
RDATE:20181104T020000
END:STANDARD
BEGIN:DAYLIGHT
TZNAME:CDT
DTSTART:20170312T020000
TZOFFSETFROM:-0600
TZOFFSETTO:-0500
RDATE:20180311T020000
END:DAYLIGHT
END:VTIMEZONE
BEGIN:VEVENT
UID:9a1fa70e-aea1-4859-a390-cf7aebe0e2ac
DTSTAMP:20260423T031318Z
DESCRIPTION:Sports include: Athletics
DTSTART;TZID=America/Chicago:20170521T000000
DTEND;TZID=America/Chicago:20170521T235900
LOCATION:Dickinson\, ND
SUMMARY:District IV Track Tournament
END:VEVENT
END:VCALENDAR
