BEGIN:VCALENDAR
VERSION:2.0
PRODID:-//specialolympicsnd.org//NONSGML kigkonsult.se iCalcreator 2.30.10/
 /
CALSCALE:GREGORIAN
METHOD:PUBLISH
UID:5337b7e5-3866-4dfd-a424-0d1929215032
X-WR-CALDESC:
X-WR-RELCALID:143e459efa5f07f88d6406877f2c60ac
X-WR-TIMEZONE:America/Chicago
BEGIN:VTIMEZONE
TZID:America/Chicago
BEGIN:STANDARD
TZNAME:CST
DTSTART:20161106T020000
TZOFFSETFROM:-0500
TZOFFSETTO:-0600
RDATE:20171105T020000
RDATE:20181104T020000
END:STANDARD
BEGIN:DAYLIGHT
TZNAME:CDT
DTSTART:20170312T020000
TZOFFSETFROM:-0600
TZOFFSETTO:-0500
RDATE:20180311T020000
END:DAYLIGHT
END:VTIMEZONE
BEGIN:VEVENT
UID:1ed5d539-567e-47b9-8e5b-4a8293b80c3d
DTSTAMP:20260423T031519Z
DESCRIPTION:
DTSTART;TZID=America/Chicago:20170521T000000
DTEND;TZID=America/Chicago:20170521T235900
LOCATION:Dickinson\, ND
SUMMARY:Area 12 Volleyball Tournament
END:VEVENT
END:VCALENDAR
