BEGIN:VCALENDAR
VERSION:2.0
PRODID:-//specialolympicsnd.org//NONSGML kigkonsult.se iCalcreator 2.30.10/
 /
CALSCALE:GREGORIAN
METHOD:PUBLISH
UID:8543c1a8-a51b-4786-be4d-900997c81688
X-WR-CALDESC:Special Olympics North Dakota is proud to partner with the Spa
 rtanNash Foundation during its retail scan campaign to support Special Oly
 mpics athletes and the 2017 State Summer Games. From May 3rd - 14th\, stor
 e guests who visit any of the three Family Fare Supermarkets in Fargo\, th
 e three Family Fare Supermarkets in Dickinson or the six Dan’s Supermarket
 s in Bismarck/Mandan will have the opportunity to donate $1\, $5 or $10 at
  any checkout lane\, with 100% of dollars raised going to Special Olympics
  North Dakota.
X-WR-RELCALID:7a73792aba5880d4371ebad2bb2b7692
X-WR-TIMEZONE:America/Chicago
BEGIN:VTIMEZONE
TZID:America/Chicago
BEGIN:STANDARD
TZNAME:CST
DTSTART:20161106T020000
TZOFFSETFROM:-0500
TZOFFSETTO:-0600
RDATE:20171105T020000
END:STANDARD
BEGIN:DAYLIGHT
TZNAME:CDT
DTSTART:20170312T020000
TZOFFSETFROM:-0600
TZOFFSETTO:-0500
RDATE:20180311T020000
END:DAYLIGHT
END:VTIMEZONE
BEGIN:VEVENT
UID:cfb848d9-6f55-46da-a115-b370e5bb5b89
DTSTAMP:20260423T031306Z
DESCRIPTION:Special Olympics North Dakota is proud to partner with the Spar
 tanNash Foundation during its retail scan campaign to support Special Olym
 pics athletes and the 2017 State Summer Games. From May 3rd - 14th\, store
  guests who visit any of the three Family Fare Supermarkets in Fargo\, the
  three Family Fare Supermarkets in Dickinson or the six Dan’s Supermarkets
  in Bismarck/Mandan will have the opportunity to donate $1\, $5 or $10 at 
 any checkout lane\, with 100% of dollars raised going to Special Olympics 
 North Dakota.
DTSTART;TZID=America/Chicago:20170503T000000
DTEND;TZID=America/Chicago:20170514T235900
LOCATION:Bismarck/Mandan\, Dickinson\, and Fargo
SUMMARY:SpartanNash Promotion
END:VEVENT
END:VCALENDAR
