BEGIN:VCALENDAR
VERSION:2.0
PRODID:-//specialolympicsnd.org//NONSGML kigkonsult.se iCalcreator 2.30.10/
 /
CALSCALE:GREGORIAN
METHOD:PUBLISH
UID:b2414746-994b-4bfe-9356-0c31a0d3f483
X-WR-CALDESC:Sports include: Powerlifting\, Swimming\, and Unified Volleyba
 ll
X-WR-RELCALID:777c9bef23e2dec4647b9bc96db7a06d
X-WR-TIMEZONE:America/Chicago
BEGIN:VTIMEZONE
TZID:America/Chicago
BEGIN:STANDARD
TZNAME:CST
DTSTART:20161106T020000
TZOFFSETFROM:-0500
TZOFFSETTO:-0600
RDATE:20171105T020000
RDATE:20181104T020000
END:STANDARD
BEGIN:DAYLIGHT
TZNAME:CDT
DTSTART:20170312T020000
TZOFFSETFROM:-0600
TZOFFSETTO:-0500
RDATE:20180311T020000
END:DAYLIGHT
END:VTIMEZONE
BEGIN:VEVENT
UID:91e99830-5d43-413b-b1e8-1ca33241be26
DTSTAMP:20260423T031211Z
DESCRIPTION:Sports include: Powerlifting\, Swimming\, and Unified Volleybal
 l
DTSTART;TZID=America/Chicago:20170507T000000
DTEND;TZID=America/Chicago:20170507T235900
LOCATION:Mandan\, ND
SUMMARY:District IV Spring Games
END:VEVENT
END:VCALENDAR
