BEGIN:VCALENDAR
VERSION:2.0
PRODID:-//specialolympicsnd.org//NONSGML kigkonsult.se iCalcreator 2.30.10/
 /
CALSCALE:GREGORIAN
METHOD:PUBLISH
UID:344da45d-c58e-4386-860a-99cca502a583
X-WR-CALDESC:Sports include: Athletics\, Bocce\, Powerlifting\, Swimming\, 
 and Volleyball
X-WR-RELCALID:cc6340f89844223188e3ab5ef626e11a
X-WR-TIMEZONE:America/Chicago
BEGIN:VTIMEZONE
TZID:America/Chicago
BEGIN:STANDARD
TZNAME:CST
DTSTART:20161106T020000
TZOFFSETFROM:-0500
TZOFFSETTO:-0600
RDATE:20171105T020000
RDATE:20181104T020000
END:STANDARD
BEGIN:DAYLIGHT
TZNAME:CDT
DTSTART:20170312T020000
TZOFFSETFROM:-0600
TZOFFSETTO:-0500
RDATE:20180311T020000
END:DAYLIGHT
END:VTIMEZONE
BEGIN:VEVENT
UID:a804c2c8-0369-45ac-8c88-4a1c19c5b34f
DTSTAMP:20260423T031145Z
DESCRIPTION:Sports include: Athletics\, Bocce\, Powerlifting\, Swimming\, a
 nd Volleyball
DTSTART;TZID=America/Chicago:20170507T000000
DTEND;TZID=America/Chicago:20170507T235900
LOCATION:Valley City State University\, Valley City
SUMMARY:District III Spring Games
END:VEVENT
END:VCALENDAR
